{"text_format":"1","workbook":"xlsx","n_sheets":6,"sheets":["Istruzioni per l'uso","Budget mensile della famiglia","Confronto dei budget","Dati","Budget mensile famiglia_p","Confronto budget famiglie_p"],"not_rendered":{"charts":0,"images":13,"macros":1,"external_links":0,"defined_names":14,"comments":0,"pivot_tables":0},"unopened":[],"bounds":{"document_bytes":16777216,"sheet_cells":100000,"rows_first":2000,"rows_last":500,"rows_between":2000,"halvings":0,"cell_chars":16384,"cell_head_chars":4096},"cells_cut":0,"cells_raw":0,"read":"whole","date_system":"1900"}

{"sheet":"Istruzioni per l'uso","index":0,"n_rows":29,"n_cols":9,"rows_kept":29,"cut":false,"hidden":false,"merged":[]}
[]
[]
[]
[null,null,null,null,null,null,null,null,"VALUTAZIONE DEL GIOCO"]
[null,null,"ISTRUZIONI PER L'USO"]
[]
[null,null,"NOTA: ","Il lavoro al computer e/o l'utilizzo della versione stampata dei documenti «Budget mensile della famiglia» e «Confronto"]
[null,null,null,"dei budget» è raccomandato ma non obbligatorio."]
[]
[null,null,"«Budget mensile della famiglia» ",null,"Grazie a questo schema, potrete definire il budget mensile e quindi confrontarlo con le"]
[null,null,null,null,"spese medie di una famiglia svizzera."]
[null,null,null,null,"1.  Inserite, nelle caselle verdi, la vostra proposta di ripartizione delle spese della"]
[null,null,null,null,"     famiglia che vi è stata assegnata. "]
[null,null,null,null,"2. Nella colonna in grigio trovate la famiglia svizzera per il confronto. Scegliete nell'elenco a discesa"]
[null,null,null,null,"     la famiglia tipo corrispondente."]
[null,null,null,null,"3. Le percentuali indicate nella colonna «Corrispondenza» permette di vedere quanto la vostra proposta"]
[null,null,null,null,"     corrisponde alla media svizzera."]
[]
[null,null,"«Confronto dei budget» ",null,"Questa scheda permette di confrontare la ripartizione delle spese (per voce del bilancio) di due"]
[null,null,null,null,"famiglie svizzere diverse. In pratica, anche i redditi, le spese (imposte, sanità, ecc.) e "]
[null,null,null,null,"il saldo (risparmio/debito) possono essere confrontati. Per scegliere una famiglia tipo, cliccate sulla"]
[null,null,null,null,"tipologia desiderata nell'elenco a discesa sotto «Budget 1» e «Budget 2»."]
[]
[null,null,"«Budget mensile famiglia_p» ",null,"Questo foglio, come documento stampato, può servire da scheda di lavoro. Nella colonna in verde, "]
[null,null,null,null,"potete inserire le vostre proposte di pianificazione del budget per la famiglia che vi è stata"]
[null,null,null,null,"assegnata."]
[]
[null,null,"«Confronto budget famiglia_p» ",null,"Questo foglio, come documento stampato, può servire da scheda di lavoro. Fornisce una visione "]
[null,null,null,null," d'insieme dei redditi, della struttura delle spese e dei saldi dei 10 profili di famiglie."]

{"sheet":"Budget mensile della famiglia","index":1,"n_rows":31,"n_cols":11,"rows_kept":31,"cut":false,"hidden":false,"merged":[]}
[]
[]
[null,null,null,"Proposta",null,null,"Media svizzera",null,null,null,"Corrispondenza"]
[null,null,null,"Studente",null,null,"Ufficio federale di statistica",null,null,null,{"$f":"1-SUM(I10:I31)","v":1}]
[]
[]
["Redditi",null,"Reddito disponibile",null,{"$f":"IF($D$7,SUM(D7)/$D$7,0)","v":0},null,{"$f":"INDEX(Dati!$D12:$N12,1,Dati!$A$56)","v":0},{"$f":"IF($G$7,SUM(G7:G7)/$G$7,0)","v":0}]
[null,{"$f":"Dati!$A13","v":0}]
[null,{"$f":"Dati!$A9","v":0}]
["Spese",{"$f":"Dati!$A15","v":1},"Imposte",null,{"$f":"IF($D$7,SUM(D10)/$D$7,0)","v":0},null,{"$f":"ABS(INDEX(Dati!$D15:$N15,1,Dati!$A$56))","v":0},{"$f":"IF($G$7,SUM(G10:G10)/$G$7,0)","v":0},{"$f":"ABS(H10-E10)","v":0},"Imposte federali, cantonali e comunali, tasse ufficiali"]
[null,{"$f":"Dati!$A16","v":0},{"$f":"Dati!$B16","v":0}]
[null,{"$f":"Dati!$A17","v":2},"Sanità",null,{"$f":"IF($D$7,SUM(D12)/$D$7,0)","v":0},null,{"$f":"ABS(INDEX(Dati!$D17:$N17,1,Dati!$A$56))","v":0},{"$f":"IF($G$7,SUM(G12:G12)/$G$7,0)","v":0},{"$f":"ABS(H12-E12)","v":0},"Premi dell'assicurazione, consultazioni mediche, farmaci"]
[null,{"$f":"Dati!$A18","v":0},{"$f":"Dati!$B18","v":0}]
[null,{"$f":"Dati!$A19","v":3},"Sovvenzioni e regali",null,{"$f":"IF($D$7,SUM(D14)/$D$7,0)","v":0},null,{"$f":"ABS(INDEX(Dati!$D19:$N19,1,Dati!$A$56))","v":0},{"$f":"IF($G$7,SUM(G14:G14)/$G$7,0)","v":0},{"$f":"ABS(H14-E14)","v":0},"Regali, donazioni, alimenti, contributi di assistenza"]
[null,{"$f":"Dati!$A20","v":0},{"$f":"Dati!$B20","v":0}]
[null,{"$f":"Dati!$A21","v":4},"Abitazione",null,{"$f":"IF($D$7,SUM(D16)/$D$7,0)","v":0},null,{"$f":"ABS(INDEX(Dati!$D21:$N21,1,Dati!$A$56))","v":0},{"$f":"IF($G$7,SUM(G16:G16)/$G$7,0)","v":0},{"$f":"ABS(H16-E16)","v":0},"Alloggio, energia"]
[null,{"$f":"Dati!$A22","v":0},{"$f":"Dati!$B22","v":0}]
[null,{"$f":"Dati!$A23","v":5},"Alimentazione",null,{"$f":"IF($D$7,SUM(D18)/$D$7,0)","v":0},null,{"$f":"ABS(INDEX(Dati!$D23:$N23,1,Dati!$A$56))","v":0},{"$f":"IF($G$7,SUM(G18:G18)/$G$7,0)","v":0},{"$f":"ABS(H18-E18)","v":0},"Beni alimentari, bevande"]
[null,{"$f":"Dati!$A24","v":0},{"$f":"Dati!$B24","v":0}]
[null,{"$f":"Dati!$A25","v":6},"Abbigliamento e cura della persona",null,{"$f":"IF($D$7,SUM(D20)/$D$7,0)","v":0},null,{"$f":"ABS(INDEX(Dati!$D25:$N25,1,Dati!$A$56))","v":0},{"$f":"IF($G$7,SUM(G20:G20)/$G$7,0)","v":0},{"$f":"ABS(H20-E20)","v":0},"Vestiti, scarpe prodotti igienici, parrucchiere"]
[null,{"$f":"Dati!$A26","v":0},{"$f":"Dati!$B26","v":0}]
[null,{"$f":"Dati!$A27","v":7},"Cura della casa e assicurazione vita",null,{"$f":"IF($D$7,SUM(D22)/$D$7,0)","v":0},null,{"$f":"ABS(INDEX(Dati!$D27:$N27,1,Dati!$A$56))","v":0},{"$f":"IF($G$7,SUM(G22:G22)/$G$7,0)","v":0},{"$f":"ABS(H22-E22)","v":0},"Mobili, elettrodomestici, assicurazioni"]
[null,{"$f":"Dati!$A28","v":0}]
[null,{"$f":"Dati!$A29","v":8},"Mobilità",null,{"$f":"IF($D$7,SUM(D24)/$D$7,0)","v":0},null,{"$f":"ABS(INDEX(Dati!$D29:$N29,1,Dati!$A$56))","v":0},{"$f":"IF($G$7,SUM(G24:G24)/$G$7,0)","v":0},{"$f":"ABS(H24-E24)","v":0},"Trasporti privati e trasporti pubblici"]
[null,{"$f":"Dati!$A30","v":0}]
[null,{"$f":"Dati!$A31","v":9},"Communicazioni e apparecchi elettronici",null,{"$f":"IF($D$7,SUM(D26)/$D$7,0)","v":0},null,{"$f":"ABS(INDEX(Dati!$D31:$N31,1,Dati!$A$56))","v":0},{"$f":"IF($G$7,SUM(G26:G26)/$G$7,0)","v":0},{"$f":"ABS(H26-E26)","v":0},"Telefonia, Internet, TV, computer"]
[null,{"$f":"Dati!$A32","v":0},{"$f":"Dati!$B32","v":0}]
[null,{"$f":"Dati!$A33","v":10},"Tempo libero e formazione",null,{"$f":"IF($D$7,SUM(D28)/$D$7,0)","v":0},null,{"$f":"ABS(INDEX(Dati!$D33:$N33,1,Dati!$A$56))","v":0},{"$f":"IF($G$7,SUM(G28:G28)/$G$7,0)","v":0},{"$f":"ABS(H28-E28)","v":0},"Uscite, vacanze, hobby, formazione"]
[null,{"$f":"Dati!$A34","v":0}]
[null,{"$f":"Dati!$A35","v":0}]
["Somma residua",null,"Risparmio/Debito",{"$f":"D7-SUM(D10:D28)","v":0},{"$f":"IF($D$7,SUM(D31)/$D$7,0)","v":0},null,{"$f":"INDEX(Dati!$D36:$N36,1,Dati!$A$56)","v":0},{"$f":"IF($G$7,SUM(G31:G31)/$G$7,0)","v":0},{"$f":"ABS(H31-E31)","v":0}]

{"sheet":"Confronto dei budget","index":2,"n_rows":28,"n_cols":19,"rows_kept":28,"cut":false,"hidden":false,"merged":[[6,12,6,13],[8,12,8,13]]}
[]
[]
[null,null,null,"Media svizzera"]
[null,null,null,"Ufficio federale di statistica"]
[]
[]
[null,"Budget 1",null,null,null,null,null,null,null,null,"Entrate",null,{"$f":"INDEX(Dati!$D12:$N12,1,Dati!$A$58)","v":2780},null,null,"Somma residua",null,null,{"$f":"INDEX(Dati!$D36:$N36,1,Dati!$A$58)","v":-730}]
[]
[null,"Budget 2",null,null,null,null,null,null,null,null,null,null,{"$f":"INDEX(Dati!$D12:$N12,1,Dati!$A$59)","v":5820},null,null,null,null,null,{"$f":"INDEX(Dati!$D36:$N36,1,Dati!$A$59)","v":750}]
[]
[null,{"$f":"Dati!$A9","v":0}]
["Spese"]
[]
[]
[null,null,"1 Imposte",null,null,null,"2 Sanità",null,null,null,"3 Sovvenzioni e regali",null,null,null,"4 Abitazione",null,null,null,"5 Alimentazione"]
[null,null,"((Icon))",null,null,null,"((Icon))",null,null,null,"((Icon))",null,null,null,"((Icon))",null,null,null,"((Icon))"]
[null,null,{"$f":"INDEX(Dati!$D15:$N15,1,Dati!$A$58)","v":-290},null,null,null,{"$f":"INDEX(Dati!$D17:$N17,1,Dati!$A$58)","v":-520},null,null,null,{"$f":"INDEX(Dati!$D19:$N19,1,Dati!$A$58)","v":-130},null,null,null,{"$f":"INDEX(Dati!$D21:$N21,1,Dati!$A$58)","v":-1040},null,null,null,{"$f":"INDEX(Dati!$D23:$N23,1,Dati!$A$58)","v":-320}]
[]
[null,null,{"$f":"INDEX(Dati!$D15:$N15,1,Dati!$A$59)","v":-640},null,null,null,{"$f":"INDEX(Dati!$D17:$N17,1,Dati!$A$59)","v":-490},null,null,null,{"$f":"INDEX(Dati!$D19:$N19,1,Dati!$A$59)","v":-290},null,null,null,{"$f":"INDEX(Dati!$D21:$N21,1,Dati!$A$59)","v":-1240},null,null,null,{"$f":"INDEX(Dati!$D23:$N23,1,Dati!$A$59)","v":-340}]
[]
[]
[]
[null,null,"6 Abbigliamento",null,null,null,"7 Cura della casa ",null,null,null,"8 Mobilità",null,null,null,"9 Communicazioni",null,null,null,"10 Tempo libero e "]
[null,null,"e cura della persona",null,null,null,"e assicurazione vita",null,null,null,null,null,null,null," e apparecchi elettronici",null,null,null,"formazione"]
[null,null,"((Icon))",null,null,null,"((Icon))",null,null,null,"((Icon))",null,null,null,"((Icon))",null,null,null,"((Icon))"]
[null,null,{"$f":"INDEX(Dati!$D25:$N25,1,Dati!$A$58)","v":-130},null,null,null,{"$f":"INDEX(Dati!$D27:$N27,1,Dati!$A$58)","v":-190},null,null,null,{"$f":"INDEX(Dati!$D29:$N29,1,Dati!$A$58)","v":-300},null,null,null,{"$f":"INDEX(Dati!$D31:$N31,1,Dati!$A$58)","v":-150},null,null,null,{"$f":"INDEX(Dati!$D33:$N33,1,Dati!$A$58)","v":-440}]
[]
[null,null,{"$f":"INDEX(Dati!$D25:$N25,1,Dati!$A$59)","v":-200},null,null,null,{"$f":"INDEX(Dati!$D27:$N27,1,Dati!$A$59)","v":-350},null,null,null,{"$f":"INDEX(Dati!$D29:$N29,1,Dati!$A$59)","v":-570},null,null,null,{"$f":"INDEX(Dati!$D31:$N31,1,Dati!$A$59)","v":-190},null,null,null,{"$f":"INDEX(Dati!$D33:$N33,1,Dati!$A$59)","v":-760}]

{"sheet":"Dati","index":3,"n_rows":59,"n_cols":14,"rows_kept":59,"cut":false,"hidden":true,"merged":[]}
[9,null,null,null,1,2,3,4,5,6,7,8,9,10]
[null,"Groupe de population",null,null,"1 Persona sola, reddito basso","2 Persona sola, reddito medio","3 Persona sola, reddito elevato","4 Coppia senza figli, reddito basso","5 Coppia senza figli, reddito medio","6 Persona sola con figli","7 Coppia di pensionati senza figli, reddito medio da pensione","8 Coppia con due figli, reddito basso","9 Coppia con due figli, reddito medio","10 Coppia con due figli, reddito elevato"]
[]
["A","Revenus primaires",null,null,1080,5960,12070,4550,11010,6020,950,5670,11070,23840]
[]
["B","Rentes et prestations sociales",null,null,1450,420,380,1170,530,1220,6220,970,880,720]
[]
["C","Revenus sporadiques, de transfert",null,null,380,200,470,310,370,1320,400,280,510,740]
[]
["D","Cotisations aux assurances sociales",null,null,-130,-760,-1600,-550,-1360,-760,-40,-680,-1410,-2930]
[]
["E","Revenus disponibles",null,null,{"$f":"SUM(E4:E10)","v":2780},{"$f":"SUM(F4:F10)","v":5820},11320,5480,10550,{"$f":"SUM(J4:J10)","v":7800},7530,6240,11050,22370]
[]
[]
[1,"Impôts",null,null,-290,-640,-1770,-820,-1300,-590,-1070,-470,-1000,-3460]
[]
[2,"Santé",null,null,-520,-490,-640,-920,-940,-950,-1490,-1090,-1260,-1540]
[]
[3,"Assistance et cadeaux",null,null,-130,-290,-1120,-190,-250,-290,-400,-110,-240,-590]
[]
[4,"Logement",null,null,-1040,-1240,-1680,-1370,-1620,-1590,-1180,-1410,-1530,-2350]
[]
[5,"Alimentation",null,null,-320,-340,-390,-540,-620,-640,-750,-720,-910,-1110]
[]
[6,"Habillement et soins corporels",null,null,-130,-200,-310,-260,-380,-380,-300,-320,-500,-860]
[]
[7,"Ménage et assurance vie",null,null,-190,-350,-790,-450,-810,-440,-350,-440,-890,-1610]
[]
[8,"Mobilité",null,null,-300,-570,-870,-740,-1160,-670,-760,-770,-1210,-1800]
[]
[9,"Communication et appareils électroniques",null,null,-150,-190,-240,-230,-280,-290,-200,-260,-310,-400]
[]
[10,"Loisirs et formation",null,null,-440,-760,-1290,-880,-1360,-1080,-1220,-830,-1570,-3380]
[]
[]
["F","Epargne/Dette",null,null,{"$f":"SUM(E12:E33)","v":-730},{"$f":"SUM(F12:F33)","v":750},2220,-920,1830,880,-190,{"$f":"SUM(L12:L33)","v":-180},1630,5270]
[]
["X1","Personne seule / couple",null,null,"Personne seule","Personne seule","Personne seule","Couple","Couple","Personne seule","Couple","Couple","Couple","Couple"]
["X2","Enfants",null,null,"Non ","Non ","Non ","Non","Non ","Oui","Non","Oui","Oui","Oui"]
["X3","Âge",null,null,"Moins de 65 ans","Moins de 65 ans","Moins de 65 ans","-","65 ans et +","-","65 ans et +","-","-","-"]
["X4","Revenus",null,null,"Revenus faibles","Revenus moyens","Revenus supérieurs","Revenus faibles","Revenus moyens","Revenus moyens (60 pour cent)","Revenus moyens","Revenus faibles","Revenus moyens","Revenus supérieurs"]
[]
[]
[null,{"$f":"E2","v":"1 Persona sola, reddito basso"}]
[null,{"$f":"F2","v":"2 Persona sola, reddito medio"}]
[null,{"$f":"G2","v":"3 Persona sola, reddito elevato"}]
[null,{"$f":"H2","v":"4 Coppia senza figli, reddito basso"}]
[null,{"$f":"I2","v":"5 Coppia senza figli, reddito medio"}]
[null,{"$f":"J2","v":"6 Persona sola con figli"}]
[null,{"$f":"K2","v":"7 Coppia di pensionati senza figli, reddito medio da pensione"}]
[null,{"$f":"L2","v":"8 Coppia con due figli, reddito basso"}]
[null,{"$f":"M2","v":"9 Coppia con due figli, reddito medio"}]
[null,{"$f":"N2","v":"10 Coppia con due figli, reddito elevato"}]
[]
[]
[1,"Cell Lien vers Budget mensuel des ménages"]
[]
[2,"Cell Lien vers Types de ménages Comparaison 1"]
[3,"Cell Lien vers Types de ménages Comparaison 1"]

{"sheet":"Budget mensile famiglia_p","index":4,"n_rows":31,"n_cols":7,"rows_kept":31,"cut":false,"hidden":false,"merged":[]}
[]
[]
[null,null,null,"Proposta"]
[null,null,null,"Studente"]
[]
[]
["Redditi",null,"Reddito disponibile"]
[null,{"$f":"Dati!$A13","v":0}]
[null,{"$f":"Dati!$A9","v":0}]
["Spese",{"$f":"Dati!$A15","v":1},"Imposte",null,{"$f":"IF($D$7,SUM(D10)/$D$7,0)","v":0},{"$f":"ABS(#REF!-E10)","v":{"$error":"#REF!"}},"Imposte federali, cantonali e comunali, tasse ufficiali"]
[null,{"$f":"Dati!$A16","v":0},{"$f":"Dati!$B16","v":0}]
[null,{"$f":"Dati!$A17","v":2},"Sanità",null,{"$f":"IF($D$7,SUM(D12)/$D$7,0)","v":0},{"$f":"ABS(#REF!-E12)","v":{"$error":"#REF!"}},"Premi dell'assicurazione, consultazioni mediche, farmaci"]
[null,{"$f":"Dati!$A18","v":0},{"$f":"Dati!$B18","v":0}]
[null,{"$f":"Dati!$A19","v":3},"Sovvenzioni e regali",null,{"$f":"IF($D$7,SUM(D14)/$D$7,0)","v":0},{"$f":"ABS(#REF!-E14)","v":{"$error":"#REF!"}},"Regali, donazioni, alimenti, contributi di assistenza"]
[null,{"$f":"Dati!$A20","v":0},{"$f":"Dati!$B20","v":0}]
[null,{"$f":"Dati!$A21","v":4},"Abitazione",null,{"$f":"IF($D$7,SUM(D16)/$D$7,0)","v":0},{"$f":"ABS(#REF!-E16)","v":{"$error":"#REF!"}},"Alloggio, energia"]
[null,{"$f":"Dati!$A22","v":0},{"$f":"Dati!$B22","v":0}]
[null,{"$f":"Dati!$A23","v":5},"Alimentazione",null,{"$f":"IF($D$7,SUM(D18)/$D$7,0)","v":0},{"$f":"ABS(#REF!-E18)","v":{"$error":"#REF!"}},"Beni alimentari, bevande"]
[null,{"$f":"Dati!$A24","v":0},{"$f":"Dati!$B24","v":0}]
[null,{"$f":"Dati!$A25","v":6},"Abbigliamento e cura della persona",null,{"$f":"IF($D$7,SUM(D20)/$D$7,0)","v":0},{"$f":"ABS(#REF!-E20)","v":{"$error":"#REF!"}},"Vestiti, scarpe prodotti igienici, parrucchiere"]
[null,{"$f":"Dati!$A26","v":0},{"$f":"Dati!$B26","v":0}]
[null,{"$f":"Dati!$A27","v":7},"Cura della casa e assicurazione vita",null,{"$f":"IF($D$7,SUM(D22)/$D$7,0)","v":0},{"$f":"ABS(#REF!-E22)","v":{"$error":"#REF!"}},"Mobili, elettrodomestici, assicurazioni"]
[null,{"$f":"Dati!$A28","v":0}]
[null,{"$f":"Dati!$A29","v":8},"Mobilità",null,{"$f":"IF($D$7,SUM(D24)/$D$7,0)","v":0},{"$f":"ABS(#REF!-E24)","v":{"$error":"#REF!"}},"Trasporti privati e trasporti pubblici"]
[null,{"$f":"Dati!$A30","v":0}]
[null,{"$f":"Dati!$A31","v":9},"Communicazioni e apparecchi elettronici",null,{"$f":"IF($D$7,SUM(D26)/$D$7,0)","v":0},{"$f":"ABS(#REF!-E26)","v":{"$error":"#REF!"}},"Telefonia, Internet, TV, computer"]
[null,{"$f":"Dati!$A32","v":0},{"$f":"Dati!$B32","v":0}]
[null,{"$f":"Dati!$A33","v":10},"Tempo libero e formazione",null,{"$f":"IF($D$7,SUM(D28)/$D$7,0)","v":0},{"$f":"ABS(#REF!-E28)","v":{"$error":"#REF!"}},"Uscite, vacanze, hobby, formazione"]
[null,{"$f":"Dati!$A34","v":0}]
[null,{"$f":"Dati!$A35","v":0}]
["Somma residua",null,"Risparmio/Debito",{"$f":"D7-SUM(D10:D28)","v":0},{"$f":"IF($D$7,SUM(D31)/$D$7,0)","v":0},{"$f":"ABS(#REF!-E31)","v":{"$error":"#REF!"}}]

{"sheet":"Confronto budget famiglie_p","index":5,"n_rows":36,"n_cols":13,"rows_kept":36,"cut":false,"hidden":false,"merged":[]}
[null,null,null,1,2,3,4,5,6,7,8,9,10]
[null,null,null,"Persona sola, reddito basso","Persona sola, reddito medio","Persona sola, reddito elevato","Coppia senza figli, reddito basso","Coppia senza figli, reddito medio","Persona sola con figli","Coppia di pensionati senza figli, reddito medio da pensione","Coppia con due figli, reddito basso ","Coppia con due figli, reddito medio","Coppia con due figli, reddito elevato"]
[]
[null,"Reddito primario",null,{"$f":"Dati!E4","v":1080},{"$f":"Dati!F4","v":5960},{"$f":"Dati!G4","v":12070},{"$f":"Dati!H4","v":4550},{"$f":"Dati!I4","v":11010},{"$f":"Dati!J4","v":6020},{"$f":"Dati!K4","v":950},{"$f":"Dati!L4","v":5670},{"$f":"Dati!M4","v":11070},{"$f":"Dati!N4","v":23840}]
[null,null,null,{"$f":"Dati!E5","v":0}]
[null,"Rendite e prestazioni sociali",null,{"$f":"Dati!E6","v":1450},{"$f":"Dati!F6","v":420},{"$f":"Dati!G6","v":380},{"$f":"Dati!H6","v":1170},{"$f":"Dati!I6","v":530},{"$f":"Dati!J6","v":1220},{"$f":"Dati!K6","v":6220},{"$f":"Dati!L6","v":970},{"$f":"Dati!M6","v":880},{"$f":"Dati!N6","v":720}]
[null,null,null,{"$f":"Dati!E7","v":0}]
[null,"Redditi sporadici e trasferimenti",null,{"$f":"Dati!E8","v":380},{"$f":"Dati!F8","v":200},{"$f":"Dati!G8","v":470},{"$f":"Dati!H8","v":310},{"$f":"Dati!I8","v":370},{"$f":"Dati!J8","v":1320},{"$f":"Dati!K8","v":400},{"$f":"Dati!L8","v":280},{"$f":"Dati!M8","v":510},{"$f":"Dati!N8","v":740}]
[null,null,null,{"$f":"Dati!E9","v":0}]
[null,"Contributi alle assicurazioni sociali",null,{"$f":"Dati!E10","v":-130},{"$f":"Dati!F10","v":-760},{"$f":"Dati!G10","v":-1600},{"$f":"Dati!H10","v":-550},{"$f":"Dati!I10","v":-1360},{"$f":"Dati!J10","v":-760},{"$f":"Dati!K10","v":-40},{"$f":"Dati!L10","v":-680},{"$f":"Dati!M10","v":-1410},{"$f":"Dati!N10","v":-2930}]
[]
[null,"Reddito disponibile",null,{"$f":"Dati!E12","v":2780},{"$f":"Dati!F12","v":5820},{"$f":"Dati!G12","v":11320},{"$f":"Dati!H12","v":5480},{"$f":"Dati!I12","v":10550},{"$f":"Dati!J12","v":7800},{"$f":"Dati!K12","v":7530},{"$f":"Dati!L12","v":6240},{"$f":"Dati!M12","v":11050},{"$f":"Dati!N12","v":22370}]
[]
[]
[1,"Imposte",null,{"$f":"Dati!E15","v":-290},{"$f":"Dati!F15","v":-640},{"$f":"Dati!G15","v":-1770},{"$f":"Dati!H15","v":-820},{"$f":"Dati!I15","v":-1300},{"$f":"Dati!J15","v":-590},{"$f":"Dati!K15","v":-1070},{"$f":"Dati!L15","v":-470},{"$f":"Dati!M15","v":-1000},{"$f":"Dati!N15","v":-3460}]
[null,null,null,{"$f":"Dati!E16","v":0},{"$f":"Dati!F16","v":0},{"$f":"Dati!G16","v":0},{"$f":"Dati!H16","v":0},{"$f":"Dati!I16","v":0},{"$f":"Dati!J16","v":0},{"$f":"Dati!K16","v":0},{"$f":"Dati!L16","v":0},{"$f":"Dati!M16","v":0},{"$f":"Dati!N16","v":0}]
[2,"Sanità",null,{"$f":"Dati!E17","v":-520},{"$f":"Dati!F17","v":-490},{"$f":"Dati!G17","v":-640},{"$f":"Dati!H17","v":-920},{"$f":"Dati!I17","v":-940},{"$f":"Dati!J17","v":-950},{"$f":"Dati!K17","v":-1490},{"$f":"Dati!L17","v":-1090},{"$f":"Dati!M17","v":-1260},{"$f":"Dati!N17","v":-1540}]
[null,null,null,{"$f":"Dati!E18","v":0},{"$f":"Dati!F18","v":0},{"$f":"Dati!G18","v":0},{"$f":"Dati!H18","v":0},{"$f":"Dati!I18","v":0},{"$f":"Dati!J18","v":0},{"$f":"Dati!K18","v":0},{"$f":"Dati!L18","v":0},{"$f":"Dati!M18","v":0},{"$f":"Dati!N18","v":0}]
[3,"Sovvenzioni e regali",null,{"$f":"Dati!E19","v":-130},{"$f":"Dati!F19","v":-290},{"$f":"Dati!G19","v":-1120},{"$f":"Dati!H19","v":-190},{"$f":"Dati!I19","v":-250},{"$f":"Dati!J19","v":-290},{"$f":"Dati!K19","v":-400},{"$f":"Dati!L19","v":-110},{"$f":"Dati!M19","v":-240},{"$f":"Dati!N19","v":-590}]
[null,null,null,{"$f":"Dati!E20","v":0},{"$f":"Dati!F20","v":0},{"$f":"Dati!G20","v":0},{"$f":"Dati!H20","v":0},{"$f":"Dati!I20","v":0},{"$f":"Dati!J20","v":0},{"$f":"Dati!K20","v":0},{"$f":"Dati!L20","v":0},{"$f":"Dati!M20","v":0},{"$f":"Dati!N20","v":0}]
[4,"Abitazione",null,{"$f":"Dati!E21","v":-1040},{"$f":"Dati!F21","v":-1240},{"$f":"Dati!G21","v":-1680},{"$f":"Dati!H21","v":-1370},{"$f":"Dati!I21","v":-1620},{"$f":"Dati!J21","v":-1590},{"$f":"Dati!K21","v":-1180},{"$f":"Dati!L21","v":-1410},{"$f":"Dati!M21","v":-1530},{"$f":"Dati!N21","v":-2350}]
[null,null,null,{"$f":"Dati!E22","v":0},{"$f":"Dati!F22","v":0},{"$f":"Dati!G22","v":0},{"$f":"Dati!H22","v":0},{"$f":"Dati!I22","v":0},{"$f":"Dati!J22","v":0},{"$f":"Dati!K22","v":0},{"$f":"Dati!L22","v":0},{"$f":"Dati!M22","v":0},{"$f":"Dati!N22","v":0}]
[5,"Alimentazione",null,{"$f":"Dati!E23","v":-320},{"$f":"Dati!F23","v":-340},{"$f":"Dati!G23","v":-390},{"$f":"Dati!H23","v":-540},{"$f":"Dati!I23","v":-620},{"$f":"Dati!J23","v":-640},{"$f":"Dati!K23","v":-750},{"$f":"Dati!L23","v":-720},{"$f":"Dati!M23","v":-910},{"$f":"Dati!N23","v":-1110}]
[null,null,null,{"$f":"Dati!E24","v":0},{"$f":"Dati!F24","v":0},{"$f":"Dati!G24","v":0},{"$f":"Dati!H24","v":0},{"$f":"Dati!I24","v":0},{"$f":"Dati!J24","v":0},{"$f":"Dati!K24","v":0},{"$f":"Dati!L24","v":0},{"$f":"Dati!M24","v":0},{"$f":"Dati!N24","v":0}]
[6,"Abbigliamento e cura della persona",null,{"$f":"Dati!E25","v":-130},{"$f":"Dati!F25","v":-200},{"$f":"Dati!G25","v":-310},{"$f":"Dati!H25","v":-260},{"$f":"Dati!I25","v":-380},{"$f":"Dati!J25","v":-380},{"$f":"Dati!K25","v":-300},{"$f":"Dati!L25","v":-320},{"$f":"Dati!M25","v":-500},{"$f":"Dati!N25","v":-860}]
[null,null,null,{"$f":"Dati!E26","v":0},{"$f":"Dati!F26","v":0},{"$f":"Dati!G26","v":0},{"$f":"Dati!H26","v":0},{"$f":"Dati!I26","v":0},{"$f":"Dati!J26","v":0},{"$f":"Dati!K26","v":0},{"$f":"Dati!L26","v":0},{"$f":"Dati!M26","v":0},{"$f":"Dati!N26","v":0}]
[7,"Cura della casa e assicurazione vita",null,{"$f":"Dati!E27","v":-190},{"$f":"Dati!F27","v":-350},{"$f":"Dati!G27","v":-790},{"$f":"Dati!H27","v":-450},{"$f":"Dati!I27","v":-810},{"$f":"Dati!J27","v":-440},{"$f":"Dati!K27","v":-350},{"$f":"Dati!L27","v":-440},{"$f":"Dati!M27","v":-890},{"$f":"Dati!N27","v":-1610}]
[null,null,null,{"$f":"Dati!E28","v":0},{"$f":"Dati!F28","v":0},{"$f":"Dati!G28","v":0},{"$f":"Dati!H28","v":0},{"$f":"Dati!I28","v":0},{"$f":"Dati!J28","v":0},{"$f":"Dati!K28","v":0},{"$f":"Dati!L28","v":0},{"$f":"Dati!M28","v":0},{"$f":"Dati!N28","v":0}]
[8,"Mobilità",null,{"$f":"Dati!E29","v":-300},{"$f":"Dati!F29","v":-570},{"$f":"Dati!G29","v":-870},{"$f":"Dati!H29","v":-740},{"$f":"Dati!I29","v":-1160},{"$f":"Dati!J29","v":-670},{"$f":"Dati!K29","v":-760},{"$f":"Dati!L29","v":-770},{"$f":"Dati!M29","v":-1210},{"$f":"Dati!N29","v":-1800}]
[null,null,null,{"$f":"Dati!E30","v":0},{"$f":"Dati!F30","v":0},{"$f":"Dati!G30","v":0},{"$f":"Dati!H30","v":0},{"$f":"Dati!I30","v":0},{"$f":"Dati!J30","v":0},{"$f":"Dati!K30","v":0},{"$f":"Dati!L30","v":0},{"$f":"Dati!M30","v":0},{"$f":"Dati!N30","v":0}]
[9,"Comunicazione e apparecchi elettronici",null,{"$f":"Dati!E31","v":-150},{"$f":"Dati!F31","v":-190},{"$f":"Dati!G31","v":-240},{"$f":"Dati!H31","v":-230},{"$f":"Dati!I31","v":-280},{"$f":"Dati!J31","v":-290},{"$f":"Dati!K31","v":-200},{"$f":"Dati!L31","v":-260},{"$f":"Dati!M31","v":-310},{"$f":"Dati!N31","v":-400}]
[null,null,null,{"$f":"Dati!E32","v":0},{"$f":"Dati!F32","v":0},{"$f":"Dati!G32","v":0},{"$f":"Dati!H32","v":0},{"$f":"Dati!I32","v":0},{"$f":"Dati!J32","v":0},{"$f":"Dati!K32","v":0},{"$f":"Dati!L32","v":0},{"$f":"Dati!M32","v":0},{"$f":"Dati!N32","v":0}]
[10,"Tempo libero e formazione",null,{"$f":"Dati!E33","v":-440},{"$f":"Dati!F33","v":-760},{"$f":"Dati!G33","v":-1290},{"$f":"Dati!H33","v":-880},{"$f":"Dati!I33","v":-1360},{"$f":"Dati!J33","v":-1080},{"$f":"Dati!K33","v":-1220},{"$f":"Dati!L33","v":-830},{"$f":"Dati!M33","v":-1570},{"$f":"Dati!N33","v":-3380}]
[]
[]
[null,"Somma residua",null,{"$f":"Dati!E36","v":-730},{"$f":"Dati!F36","v":750},{"$f":"Dati!G36","v":2220},{"$f":"Dati!H36","v":-920},{"$f":"Dati!I36","v":1830},{"$f":"Dati!J36","v":880},{"$f":"Dati!K36","v":-190},{"$f":"Dati!L36","v":-180},{"$f":"Dati!M36","v":1630},{"$f":"Dati!N36","v":5270}]