{"text_format":"1","workbook":"xlsx","n_sheets":6,"sheets":["Mode d'emploi","Budget mensuel des ménages","Comparaison des budgets","Données","Budget mensuel ménage_p","Comparaison budget ménages_p"],"not_rendered":{"charts":0,"images":13,"macros":1,"external_links":0,"defined_names":7,"comments":0,"pivot_tables":0},"unopened":[],"bounds":{"document_bytes":16777216,"sheet_cells":100000,"rows_first":2000,"rows_last":500,"rows_between":2000,"halvings":0,"cell_chars":16384,"cell_head_chars":4096},"cells_cut":0,"cells_raw":0,"read":"whole","date_system":"1900"}

{"sheet":"Mode d'emploi","index":0,"n_rows":29,"n_cols":9,"rows_kept":29,"cut":false,"hidden":false,"merged":[]}
[]
[]
[]
[null,null,null,null,null,null,null,null,"EVALUATION DU JEU"]
[null,null,"MODE D'EMPLOI"]
[]
[null,null,"NOTE: ","Le travail avec l’ordinateur et/ou la version imprimée des documents «Budget mensuel des ménages» et «Comparaison "]
[null,null,null,"des budgets» est recommandé mais n’est pas une obligation."]
[]
[null,null,"«Budget mensuel des ménages» ",null,"A l’aide de cet onglet, le budget mensuel peut être établi et ensuite comparé aux dépenses "]
[null,null,null,null,"moyennes d’un ménage suisse."]
[null,null,null,null,"1.  Reportez, dans la colonne verte, vos propositions de répartition de dépenses pour le ménage"]
[null,null,null,null,"     qui vous a été attribué."]
[null,null,null,null,"2. Dans la colonne grise se trouve le ménage suisse comparatif. Choisissez dans la liste déroulante"]
[null,null,null,null,"     le ménage type adéquat."]
[null,null,null,null,"3. Le pourcentage indiqué sous «Concordance» permet de voir à quel point votre proposition "]
[null,null,null,null,"     correspond à la moyenne suisse."]
[]
[null,null,"«Comparaison des budgets» ",null,"Cet onglet permet de comparer la répartition des dépenses (par poste budgétaire) de deux "]
[null,null,null,null,"ménages suisses différents. Concrètement, les recettes, les dépenses (impôts, santé, etc.) et "]
[null,null,null,null,"le solde (épargne/dette) peuvent ainsi être comparés. Pour choisir un ménage type, cliquez sur"]
[null,null,null,null,"le nom souhaité dans la liste déroulante sous «Budget 1» et «Budget 2»."]
[]
[null,null,"«Budget mensuel ménage_p» ",null,"Cet onglet, en tant que document imprimé, peut servir de document de travail. Dans la colonne verte, "]
[null,null,null,null,"vous pouvez insérer vos propositions de planification budgétaire pour le ménage qui vous a été "]
[null,null,null,null,"attribué."]
[]
[null,null,"«Comparaison budget ménage_p» ",null,"Cet onglet, en tant que document imprimé, peut servir de document de travail. Il donne un aperçu"]
[null,null,null,null," des revenus, de la structure des dépenses et du solde des 10 profils de ménages."]

{"sheet":"Budget mensuel des ménages","index":1,"n_rows":31,"n_cols":11,"rows_kept":31,"cut":false,"hidden":false,"merged":[]}
[]
[]
[null,null,null,"Proposition",null,null,"Moyenne suisse",null,null,null,"Concordance"]
[null,null,null,"Elève",null,null,"Office fédéral de la statistique",null,null,null,{"$f":"1-SUM(I10:I31)","v":1}]
[]
[]
["Recettes",null,{"$f":"Données!$B$12","v":"Revenus disponibles"},null,{"$f":"IF($D$7,SUM(D7)/$D$7,0)","v":0},null,{"$f":"INDEX(Données!$D12:$N12,1,Données!$A$56)","v":0},{"$f":"IF($G$7,SUM(G7:G7)/$G$7,0)","v":0}]
[null,{"$f":"Données!$A13","v":0}]
[null,{"$f":"Données!$A9","v":0}]
["Dépenses",{"$f":"Données!$A15","v":1},{"$f":"Données!$B15","v":"Impôts"},null,{"$f":"IF($D$7,SUM(D10)/$D$7,0)","v":0},null,{"$f":"ABS(INDEX(Données!$D15:$N15,1,Données!$A$56))","v":0},{"$f":"IF($G$7,SUM(G10:G10)/$G$7,0)","v":0},{"$f":"ABS(H10-E10)","v":0},"Impôts fédéraux, cantonaux et communaux, taxes officielles"]
[null,{"$f":"Données!$A16","v":0},{"$f":"Données!$B16","v":0}]
[null,{"$f":"Données!$A17","v":2},{"$f":"Données!$B17","v":"Santé"},null,{"$f":"IF($D$7,SUM(D12)/$D$7,0)","v":0},null,{"$f":"ABS(INDEX(Données!$D17:$N17,1,Données!$A$56))","v":0},{"$f":"IF($G$7,SUM(G12:G12)/$G$7,0)","v":0},{"$f":"ABS(H12-E12)","v":0},"Primes d’assurances, consultations médicales, médicaments"]
[null,{"$f":"Données!$A18","v":0},{"$f":"Données!$B18","v":0}]
[null,{"$f":"Données!$A19","v":3},{"$f":"Données!$B19","v":"Assistance et cadeaux"},null,{"$f":"IF($D$7,SUM(D14)/$D$7,0)","v":0},null,{"$f":"ABS(INDEX(Données!$D19:$N19,1,Données!$A$56))","v":0},{"$f":"IF($G$7,SUM(G14:G14)/$G$7,0)","v":0},{"$f":"ABS(H14-E14)","v":0},"Cadeaux, dons, pensions alimentaires, contributions de soutien"]
[null,{"$f":"Données!$A20","v":0},{"$f":"Données!$B20","v":0}]
[null,{"$f":"Données!$A21","v":4},{"$f":"Données!$B21","v":"Logement"},null,{"$f":"IF($D$7,SUM(D16)/$D$7,0)","v":0},null,{"$f":"ABS(INDEX(Données!$D21:$N21,1,Données!$A$56))","v":0},{"$f":"IF($G$7,SUM(G16:G16)/$G$7,0)","v":0},{"$f":"ABS(H16-E16)","v":0},"Logement, énergie"]
[null,{"$f":"Données!$A22","v":0},{"$f":"Données!$B22","v":0}]
[null,{"$f":"Données!$A23","v":5},{"$f":"Données!$B23","v":"Alimentation"},null,{"$f":"IF($D$7,SUM(D18)/$D$7,0)","v":0},null,{"$f":"ABS(INDEX(Données!$D23:$N23,1,Données!$A$56))","v":0},{"$f":"IF($G$7,SUM(G18:G18)/$G$7,0)","v":0},{"$f":"ABS(H18-E18)","v":0},"Nourriture, boissons"]
[null,{"$f":"Données!$A24","v":0},{"$f":"Données!$B24","v":0}]
[null,{"$f":"Données!$A25","v":6},{"$f":"Données!$B25","v":"Habillement et soins corporels"},null,{"$f":"IF($D$7,SUM(D20)/$D$7,0)","v":0},null,{"$f":"ABS(INDEX(Données!$D25:$N25,1,Données!$A$56))","v":0},{"$f":"IF($G$7,SUM(G20:G20)/$G$7,0)","v":0},{"$f":"ABS(H20-E20)","v":0},"Vêtements, chaussures, produits d’hygiène, coiffeur"]
[null,{"$f":"Données!$A26","v":0},{"$f":"Données!$B26","v":0}]
[null,{"$f":"Données!$A27","v":7},{"$f":"Données!$B27","v":"Ménage et assurance vie"},null,{"$f":"IF($D$7,SUM(D22)/$D$7,0)","v":0},null,{"$f":"ABS(INDEX(Données!$D27:$N27,1,Données!$A$56))","v":0},{"$f":"IF($G$7,SUM(G22:G22)/$G$7,0)","v":0},{"$f":"ABS(H22-E22)","v":0},"Mobilier, équipement du ménage, assurances"]
[null,{"$f":"Données!$A28","v":0},{"$f":"Données!$B28","v":0}]
[null,{"$f":"Données!$A29","v":8},{"$f":"Données!$B29","v":"Mobilité"},null,{"$f":"IF($D$7,SUM(D24)/$D$7,0)","v":0},null,{"$f":"ABS(INDEX(Données!$D29:$N29,1,Données!$A$56))","v":0},{"$f":"IF($G$7,SUM(G24:G24)/$G$7,0)","v":0},{"$f":"ABS(H24-E24)","v":0},"Transports privés et transports en commun"]
[null,{"$f":"Données!$A30","v":0},{"$f":"Données!$B30","v":0}]
[null,{"$f":"Données!$A31","v":9},{"$f":"Données!$B31","v":"Communication et appareils électroniques"},null,{"$f":"IF($D$7,SUM(D26)/$D$7,0)","v":0},null,{"$f":"ABS(INDEX(Données!$D31:$N31,1,Données!$A$56))","v":0},{"$f":"IF($G$7,SUM(G26:G26)/$G$7,0)","v":0},{"$f":"ABS(H26-E26)","v":0},"Téléphonie, Internet, TV, ordinateur"]
[null,{"$f":"Données!$A32","v":0},{"$f":"Données!$B32","v":0}]
[null,{"$f":"Données!$A33","v":10},{"$f":"Données!$B33","v":"Loisirs et formation"},null,{"$f":"IF($D$7,SUM(D28)/$D$7,0)","v":0},null,{"$f":"ABS(INDEX(Données!$D33:$N33,1,Données!$A$56))","v":0},{"$f":"IF($G$7,SUM(G28:G28)/$G$7,0)","v":0},{"$f":"ABS(H28-E28)","v":0},"Sorties, vacances, hobbys, formation"]
[null,{"$f":"Données!$A34","v":0}]
[null,{"$f":"Données!$A35","v":0}]
["Montant restant",null,"Epargne/Dette",{"$f":"D7-SUM(D10:D28)","v":0},{"$f":"IF($D$7,SUM(D31)/$D$7,0)","v":0},null,{"$f":"INDEX(Données!$D36:$N36,1,Données!$A$56)","v":0},{"$f":"IF($G$7,SUM(G31:G31)/$G$7,0)","v":0},{"$f":"ABS(H31-E31)","v":0}]

{"sheet":"Comparaison des budgets","index":2,"n_rows":28,"n_cols":19,"rows_kept":28,"cut":false,"hidden":false,"merged":[[6,12,6,13],[8,12,8,13]]}
[]
[]
[null,null,null,"Moyenne suisse"]
[null,null,null,"Office fédéral de la statistique"]
[]
[]
[null,"Budget 1",null,null,null,null,null,null,null,null,"Recettes",null,{"$f":"INDEX(Données!$D12:$N12,1,Données!$A$58)","v":2780},null,null,"Montant restant",null,null,{"$f":"INDEX(Données!$D36:$N36,1,Données!$A$58)","v":-730}]
[]
[null,"Budget 2",null,null,null,null,null,null,null,null,null,null,{"$f":"INDEX(Données!$D12:$N12,1,Données!$A$59)","v":5820},null,null,null,null,null,{"$f":"INDEX(Données!$D36:$N36,1,Données!$A$59)","v":750}]
[]
[null,{"$f":"Données!$A9","v":0}]
["Dépenses"]
[]
[]
[null,null,"1 Impôts",null,null,null,"2 Santé",null,null,null,"3 Assistance et cadeaux",null,null,null,"4 Logement",null,null,null,"5 Alimentation"]
[null,null,"((Icon))",null,null,null,"((Icon))",null,null,null,"((Icon))",null,null,null,"((Icon))",null,null,null,"((Icon))"]
[null,null,{"$f":"INDEX(Données!$D15:$N15,1,Données!$A$58)","v":-290},null,null,null,{"$f":"INDEX(Données!$D17:$N17,1,Données!$A$58)","v":-520},null,null,null,{"$f":"INDEX(Données!$D19:$N19,1,Données!$A$58)","v":-130},null,null,null,{"$f":"INDEX(Données!$D21:$N21,1,Données!$A$58)","v":-1040},null,null,null,{"$f":"INDEX(Données!$D23:$N23,1,Données!$A$58)","v":-320}]
[]
[null,null,{"$f":"INDEX(Données!$D15:$N15,1,Données!$A$59)","v":-640},null,null,null,{"$f":"INDEX(Données!$D17:$N17,1,Données!$A$59)","v":-490},null,null,null,{"$f":"INDEX(Données!$D19:$N19,1,Données!$A$59)","v":-290},null,null,null,{"$f":"INDEX(Données!$D21:$N21,1,Données!$A$59)","v":-1240},null,null,null,{"$f":"INDEX(Données!$D23:$N23,1,Données!$A$59)","v":-340}]
[]
[]
[]
[null,null,"6 Habillement et",null,null,null,"7 Ménage et assurance-vie",null,null,null,"8 Mobilité",null,null,null,"9 Communication et",null,null,null,"10 Loisirs et formation"]
[null,null,"soins corporels",null,null,null,null,null,null,null,null,null,null,null," appareils électroniques"]
[null,null,"((Icon))",null,null,null,"((Icon))",null,null,null,"((Icon))",null,null,null,"((Icon))",null,null,null,"((Icon))"]
[null,null,{"$f":"INDEX(Données!$D25:$N25,1,Données!$A$58)","v":-130},null,null,null,{"$f":"INDEX(Données!$D27:$N27,1,Données!$A$58)","v":-190},null,null,null,{"$f":"INDEX(Données!$D29:$N29,1,Données!$A$58)","v":-300},null,null,null,{"$f":"INDEX(Données!$D31:$N31,1,Données!$A$58)","v":-150},null,null,null,{"$f":"INDEX(Données!$D33:$N33,1,Données!$A$58)","v":-440}]
[]
[null,null,{"$f":"INDEX(Données!$D25:$N25,1,Données!$A$59)","v":-200},null,null,null,{"$f":"INDEX(Données!$D27:$N27,1,Données!$A$59)","v":-350},null,null,null,{"$f":"INDEX(Données!$D29:$N29,1,Données!$A$59)","v":-570},null,null,null,{"$f":"INDEX(Données!$D31:$N31,1,Données!$A$59)","v":-190},null,null,null,{"$f":"INDEX(Données!$D33:$N33,1,Données!$A$59)","v":-760}]

{"sheet":"Données","index":3,"n_rows":59,"n_cols":14,"rows_kept":59,"cut":false,"hidden":true,"merged":[]}
[9,null,null,null,1,2,3,4,5,6,7,8,9,10]
[null,"Groupe de population",null,null,"1 Personne seule, revenus faibles","2 Personne seule, revenus moyens","3 Personne seule, revenus élevés","4 Couple sans enfant, revenus faibles","5 Couple sans enfant, revenus moyens","6 Personne seule avec enfants","7 Couple de retraités sans enfant, revenus moyens issus de rentes","8 Couple avec deux enfants, revenus faibles","9 Couple avec deux enfants, revenus moyens","10 Couple avec deux enfants, revenus élevés"]
[]
["A","Revenus primaires",null,null,1080,5960,12070,4550,11010,6020,950,5670,11070,23840]
[]
["B","Rentes et prestations sociales",null,null,1450,420,380,1170,530,1220,6220,970,880,720]
[]
["C","Revenus sporadiques, de transfert",null,null,380,200,470,310,370,1320,400,280,510,740]
[]
["D","Cotisations aux assurances sociales",null,null,-130,-760,-1600,-550,-1360,-760,-40,-680,-1410,-2930]
[]
["E","Revenus disponibles",null,null,{"$f":"SUM(E4:E10)","v":2780},{"$f":"SUM(F4:F10)","v":5820},11320,5480,10550,{"$f":"SUM(J4:J10)","v":7800},7530,6240,11050,22370]
[]
[]
[1,"Impôts",null,null,-290,-640,-1770,-820,-1300,-590,-1070,-470,-1000,-3460]
[]
[2,"Santé",null,null,-520,-490,-640,-920,-940,-950,-1490,-1090,-1260,-1540]
[]
[3,"Assistance et cadeaux",null,null,-130,-290,-1120,-190,-250,-290,-400,-110,-240,-590]
[]
[4,"Logement",null,null,-1040,-1240,-1680,-1370,-1620,-1590,-1180,-1410,-1530,-2350]
[]
[5,"Alimentation",null,null,-320,-340,-390,-540,-620,-640,-750,-720,-910,-1110]
[]
[6,"Habillement et soins corporels",null,null,-130,-200,-310,-260,-380,-380,-300,-320,-500,-860]
[]
[7,"Ménage et assurance vie",null,null,-190,-350,-790,-450,-810,-440,-350,-440,-890,-1610]
[]
[8,"Mobilité",null,null,-300,-570,-870,-740,-1160,-670,-760,-770,-1210,-1800]
[]
[9,"Communication et appareils électroniques",null,null,-150,-190,-240,-230,-280,-290,-200,-260,-310,-400]
[]
[10,"Loisirs et formation",null,null,-440,-760,-1290,-880,-1360,-1080,-1220,-830,-1570,-3380]
[]
[]
["F","Epargne/Dette",null,null,{"$f":"SUM(E12:E33)","v":-730},{"$f":"SUM(F12:F33)","v":750},2220,-920,1830,880,-190,{"$f":"SUM(L12:L33)","v":-180},1630,5270]
[]
["X1","Personne seule / couple",null,null,"Personne seule","Personne seule","Personne seule","Couple","Couple","Personne seule","Couple","Couple","Couple","Couple"]
["X2","Enfants",null,null,"Non ","Non ","Non ","Non","Non ","Oui","Non","Oui","Oui","Oui"]
["X3","Âge",null,null,"Moins de 65 ans","Moins de 65 ans","Moins de 65 ans","-","65 ans et +","-","65 ans et +","-","-","-"]
["X4","Revenus",null,null,"Revenus faibles","Revenus moyens","Revenus supérieurs","Revenus faibles","Revenus moyens","Revenus moyens (60 pour cent)","Revenus moyens","Revenus faibles","Revenus moyens","Revenus supérieurs"]
[]
[]
[null,{"$f":"E2","v":"1 Personne seule, revenus faibles"}]
[null,{"$f":"F2","v":"2 Personne seule, revenus moyens"}]
[null,{"$f":"G2","v":"3 Personne seule, revenus élevés"}]
[null,{"$f":"H2","v":"4 Couple sans enfant, revenus faibles"}]
[null,{"$f":"I2","v":"5 Couple sans enfant, revenus moyens"}]
[null,{"$f":"J2","v":"6 Personne seule avec enfants"}]
[null,{"$f":"K2","v":"7 Couple de retraités sans enfant, revenus moyens issus de rentes"}]
[null,{"$f":"L2","v":"8 Couple avec deux enfants, revenus faibles"}]
[null,{"$f":"M2","v":"9 Couple avec deux enfants, revenus moyens"}]
[null,{"$f":"N2","v":"10 Couple avec deux enfants, revenus élevés"}]
[]
[]
[1,"Cell Lien vers Budget mensuel des ménages"]
[]
[2,"Cell Lien vers Types de ménages Comparaison 1"]
[3,"Cell Lien vers Types de ménages Comparaison 1"]

{"sheet":"Budget mensuel ménage_p","index":4,"n_rows":31,"n_cols":7,"rows_kept":31,"cut":false,"hidden":false,"merged":[]}
[]
[]
[null,null,null,"Proposition"]
[null,null,null,"Elève"]
[]
[]
["Recettes",null,{"$f":"Données!$B$12","v":"Revenus disponibles"}]
[null,{"$f":"Données!$A13","v":0}]
[null,{"$f":"Données!$A9","v":0}]
["Dépenses",{"$f":"Données!$A15","v":1},{"$f":"Données!$B15","v":"Impôts"},null,{"$f":"IF($D$7,SUM(D10)/$D$7,0)","v":0},{"$f":"ABS(#REF!-E10)","v":{"$error":"#REF!"}},"Impôts fédéraux, cantonaux et communaux, taxes officielles"]
[null,{"$f":"Données!$A16","v":0},{"$f":"Données!$B16","v":0}]
[null,{"$f":"Données!$A17","v":2},{"$f":"Données!$B17","v":"Santé"},null,{"$f":"IF($D$7,SUM(D12)/$D$7,0)","v":0},{"$f":"ABS(#REF!-E12)","v":{"$error":"#REF!"}},"Primes d’assurances, consultations médicales, médicaments"]
[null,{"$f":"Données!$A18","v":0},{"$f":"Données!$B18","v":0}]
[null,{"$f":"Données!$A19","v":3},{"$f":"Données!$B19","v":"Assistance et cadeaux"},null,{"$f":"IF($D$7,SUM(D14)/$D$7,0)","v":0},{"$f":"ABS(#REF!-E14)","v":{"$error":"#REF!"}},"Cadeaux, dons, pensions alimentaires, contributions de soutien"]
[null,{"$f":"Données!$A20","v":0},{"$f":"Données!$B20","v":0}]
[null,{"$f":"Données!$A21","v":4},{"$f":"Données!$B21","v":"Logement"},null,{"$f":"IF($D$7,SUM(D16)/$D$7,0)","v":0},{"$f":"ABS(#REF!-E16)","v":{"$error":"#REF!"}},"Logement, énergie"]
[null,{"$f":"Données!$A22","v":0},{"$f":"Données!$B22","v":0}]
[null,{"$f":"Données!$A23","v":5},{"$f":"Données!$B23","v":"Alimentation"},null,{"$f":"IF($D$7,SUM(D18)/$D$7,0)","v":0},{"$f":"ABS(#REF!-E18)","v":{"$error":"#REF!"}},"Nourriture, boissons"]
[null,{"$f":"Données!$A24","v":0},{"$f":"Données!$B24","v":0}]
[null,{"$f":"Données!$A25","v":6},{"$f":"Données!$B25","v":"Habillement et soins corporels"},null,{"$f":"IF($D$7,SUM(D20)/$D$7,0)","v":0},{"$f":"ABS(#REF!-E20)","v":{"$error":"#REF!"}},"Vêtements, chaussures, produits d’hygiène, coiffeur"]
[null,{"$f":"Données!$A26","v":0},{"$f":"Données!$B26","v":0}]
[null,{"$f":"Données!$A27","v":7},{"$f":"Données!$B27","v":"Ménage et assurance vie"},null,{"$f":"IF($D$7,SUM(D22)/$D$7,0)","v":0},{"$f":"ABS(#REF!-E22)","v":{"$error":"#REF!"}},"Mobilier, équipement du ménage, assurances"]
[null,{"$f":"Données!$A28","v":0},{"$f":"Données!$B28","v":0}]
[null,{"$f":"Données!$A29","v":8},{"$f":"Données!$B29","v":"Mobilité"},null,{"$f":"IF($D$7,SUM(D24)/$D$7,0)","v":0},{"$f":"ABS(#REF!-E24)","v":{"$error":"#REF!"}},"Transports privés et transports en commun"]
[null,{"$f":"Données!$A30","v":0},{"$f":"Données!$B30","v":0}]
[null,{"$f":"Données!$A31","v":9},{"$f":"Données!$B31","v":"Communication et appareils électroniques"},null,{"$f":"IF($D$7,SUM(D26)/$D$7,0)","v":0},{"$f":"ABS(#REF!-E26)","v":{"$error":"#REF!"}},"Téléphonie, Internet, TV, ordinateur"]
[null,{"$f":"Données!$A32","v":0},{"$f":"Données!$B32","v":0}]
[null,{"$f":"Données!$A33","v":10},{"$f":"Données!$B33","v":"Loisirs et formation"},null,{"$f":"IF($D$7,SUM(D28)/$D$7,0)","v":0},{"$f":"ABS(#REF!-E28)","v":{"$error":"#REF!"}},"Sorties, vacances, hobbys, formation"]
[null,{"$f":"Données!$A34","v":0}]
[null,{"$f":"Données!$A35","v":0}]
["Montant restant",null,"Epargne/Dette",{"$f":"D7-SUM(D10:D28)","v":0},{"$f":"IF($D$7,SUM(D31)/$D$7,0)","v":0},{"$f":"ABS(#REF!-E31)","v":{"$error":"#REF!"}}]

{"sheet":"Comparaison budget ménages_p","index":5,"n_rows":36,"n_cols":13,"rows_kept":36,"cut":false,"hidden":false,"merged":[]}
[null,null,null,1,2,3,4,5,6,7,8,9,10]
[null,null,null,"Personne seule, revenus faibles","Personne seule, revenus moyens","Personne seule, revenus élevés","Couple sans enfant, revenus faibles","Couple sans enfant, revenus moyens","Personne seule avec  enfants","Couple de ratraités sans enfant, revenus moyens issus de rentes","Couple avec deux enfants, revenus faibles","Couple avec deux enfants, revenus moyens","Couple avec deux enfants, revenus élevés"]
[]
[null,"Revenu primaire",null,{"$f":"Données!E4","v":1080},{"$f":"Données!F4","v":5960},{"$f":"Données!G4","v":12070},{"$f":"Données!H4","v":4550},{"$f":"Données!I4","v":11010},{"$f":"Données!J4","v":6020},{"$f":"Données!K4","v":950},{"$f":"Données!L4","v":5670},{"$f":"Données!M4","v":11070},{"$f":"Données!N4","v":23840}]
[null,null,null,{"$f":"Données!E5","v":0}]
[null,"Rentes et prestations sociales",null,{"$f":"Données!E6","v":1450},{"$f":"Données!F6","v":420},{"$f":"Données!G6","v":380},{"$f":"Données!H6","v":1170},{"$f":"Données!I6","v":530},{"$f":"Données!J6","v":1220},{"$f":"Données!K6","v":6220},{"$f":"Données!L6","v":970},{"$f":"Données!M6","v":880},{"$f":"Données!N6","v":720}]
[null,null,null,{"$f":"Données!E7","v":0}]
[null,"Revenus de transfert, sporadiques",null,{"$f":"Données!E8","v":380},{"$f":"Données!F8","v":200},{"$f":"Données!G8","v":470},{"$f":"Données!H8","v":310},{"$f":"Données!I8","v":370},{"$f":"Données!J8","v":1320},{"$f":"Données!K8","v":400},{"$f":"Données!L8","v":280},{"$f":"Données!M8","v":510},{"$f":"Données!N8","v":740}]
[null,null,null,{"$f":"Données!E9","v":0}]
[null,"Cotisations aux assurances sociales",null,{"$f":"Données!E10","v":-130},{"$f":"Données!F10","v":-760},{"$f":"Données!G10","v":-1600},{"$f":"Données!H10","v":-550},{"$f":"Données!I10","v":-1360},{"$f":"Données!J10","v":-760},{"$f":"Données!K10","v":-40},{"$f":"Données!L10","v":-680},{"$f":"Données!M10","v":-1410},{"$f":"Données!N10","v":-2930}]
[]
[null,"Revenus disponibles",null,{"$f":"Données!E12","v":2780},{"$f":"Données!F12","v":5820},{"$f":"Données!G12","v":11320},{"$f":"Données!H12","v":5480},{"$f":"Données!I12","v":10550},{"$f":"Données!J12","v":7800},{"$f":"Données!K12","v":7530},{"$f":"Données!L12","v":6240},{"$f":"Données!M12","v":11050},{"$f":"Données!N12","v":22370}]
[]
[]
[1,"Impôts",null,{"$f":"Données!E15","v":-290},{"$f":"Données!F15","v":-640},{"$f":"Données!G15","v":-1770},{"$f":"Données!H15","v":-820},{"$f":"Données!I15","v":-1300},{"$f":"Données!J15","v":-590},{"$f":"Données!K15","v":-1070},{"$f":"Données!L15","v":-470},{"$f":"Données!M15","v":-1000},{"$f":"Données!N15","v":-3460}]
[null,null,null,{"$f":"Données!E16","v":0},{"$f":"Données!F16","v":0},{"$f":"Données!G16","v":0},{"$f":"Données!H16","v":0},{"$f":"Données!I16","v":0},{"$f":"Données!J16","v":0},{"$f":"Données!K16","v":0},{"$f":"Données!L16","v":0},{"$f":"Données!M16","v":0},{"$f":"Données!N16","v":0}]
[2,"Santé",null,{"$f":"Données!E17","v":-520},{"$f":"Données!F17","v":-490},{"$f":"Données!G17","v":-640},{"$f":"Données!H17","v":-920},{"$f":"Données!I17","v":-940},{"$f":"Données!J17","v":-950},{"$f":"Données!K17","v":-1490},{"$f":"Données!L17","v":-1090},{"$f":"Données!M17","v":-1260},{"$f":"Données!N17","v":-1540}]
[null,null,null,{"$f":"Données!E18","v":0},{"$f":"Données!F18","v":0},{"$f":"Données!G18","v":0},{"$f":"Données!H18","v":0},{"$f":"Données!I18","v":0},{"$f":"Données!J18","v":0},{"$f":"Données!K18","v":0},{"$f":"Données!L18","v":0},{"$f":"Données!M18","v":0},{"$f":"Données!N18","v":0}]
[3,"Assistance et cadeaux",null,{"$f":"Données!E19","v":-130},{"$f":"Données!F19","v":-290},{"$f":"Données!G19","v":-1120},{"$f":"Données!H19","v":-190},{"$f":"Données!I19","v":-250},{"$f":"Données!J19","v":-290},{"$f":"Données!K19","v":-400},{"$f":"Données!L19","v":-110},{"$f":"Données!M19","v":-240},{"$f":"Données!N19","v":-590}]
[null,null,null,{"$f":"Données!E20","v":0},{"$f":"Données!F20","v":0},{"$f":"Données!G20","v":0},{"$f":"Données!H20","v":0},{"$f":"Données!I20","v":0},{"$f":"Données!J20","v":0},{"$f":"Données!K20","v":0},{"$f":"Données!L20","v":0},{"$f":"Données!M20","v":0},{"$f":"Données!N20","v":0}]
[4,"Logement",null,{"$f":"Données!E21","v":-1040},{"$f":"Données!F21","v":-1240},{"$f":"Données!G21","v":-1680},{"$f":"Données!H21","v":-1370},{"$f":"Données!I21","v":-1620},{"$f":"Données!J21","v":-1590},{"$f":"Données!K21","v":-1180},{"$f":"Données!L21","v":-1410},{"$f":"Données!M21","v":-1530},{"$f":"Données!N21","v":-2350}]
[null,null,null,{"$f":"Données!E22","v":0},{"$f":"Données!F22","v":0},{"$f":"Données!G22","v":0},{"$f":"Données!H22","v":0},{"$f":"Données!I22","v":0},{"$f":"Données!J22","v":0},{"$f":"Données!K22","v":0},{"$f":"Données!L22","v":0},{"$f":"Données!M22","v":0},{"$f":"Données!N22","v":0}]
[5,"Alimentation",null,{"$f":"Données!E23","v":-320},{"$f":"Données!F23","v":-340},{"$f":"Données!G23","v":-390},{"$f":"Données!H23","v":-540},{"$f":"Données!I23","v":-620},{"$f":"Données!J23","v":-640},{"$f":"Données!K23","v":-750},{"$f":"Données!L23","v":-720},{"$f":"Données!M23","v":-910},{"$f":"Données!N23","v":-1110}]
[null,null,null,{"$f":"Données!E24","v":0},{"$f":"Données!F24","v":0},{"$f":"Données!G24","v":0},{"$f":"Données!H24","v":0},{"$f":"Données!I24","v":0},{"$f":"Données!J24","v":0},{"$f":"Données!K24","v":0},{"$f":"Données!L24","v":0},{"$f":"Données!M24","v":0},{"$f":"Données!N24","v":0}]
[6,"Habillement et soins corporels",null,{"$f":"Données!E25","v":-130},{"$f":"Données!F25","v":-200},{"$f":"Données!G25","v":-310},{"$f":"Données!H25","v":-260},{"$f":"Données!I25","v":-380},{"$f":"Données!J25","v":-380},{"$f":"Données!K25","v":-300},{"$f":"Données!L25","v":-320},{"$f":"Données!M25","v":-500},{"$f":"Données!N25","v":-860}]
[null,null,null,{"$f":"Données!E26","v":0},{"$f":"Données!F26","v":0},{"$f":"Données!G26","v":0},{"$f":"Données!H26","v":0},{"$f":"Données!I26","v":0},{"$f":"Données!J26","v":0},{"$f":"Données!K26","v":0},{"$f":"Données!L26","v":0},{"$f":"Données!M26","v":0},{"$f":"Données!N26","v":0}]
[7,"Ménage et assurance vie",null,{"$f":"Données!E27","v":-190},{"$f":"Données!F27","v":-350},{"$f":"Données!G27","v":-790},{"$f":"Données!H27","v":-450},{"$f":"Données!I27","v":-810},{"$f":"Données!J27","v":-440},{"$f":"Données!K27","v":-350},{"$f":"Données!L27","v":-440},{"$f":"Données!M27","v":-890},{"$f":"Données!N27","v":-1610}]
[null,null,null,{"$f":"Données!E28","v":0},{"$f":"Données!F28","v":0},{"$f":"Données!G28","v":0},{"$f":"Données!H28","v":0},{"$f":"Données!I28","v":0},{"$f":"Données!J28","v":0},{"$f":"Données!K28","v":0},{"$f":"Données!L28","v":0},{"$f":"Données!M28","v":0},{"$f":"Données!N28","v":0}]
[8,"Mobilité",null,{"$f":"Données!E29","v":-300},{"$f":"Données!F29","v":-570},{"$f":"Données!G29","v":-870},{"$f":"Données!H29","v":-740},{"$f":"Données!I29","v":-1160},{"$f":"Données!J29","v":-670},{"$f":"Données!K29","v":-760},{"$f":"Données!L29","v":-770},{"$f":"Données!M29","v":-1210},{"$f":"Données!N29","v":-1800}]
[null,null,null,{"$f":"Données!E30","v":0},{"$f":"Données!F30","v":0},{"$f":"Données!G30","v":0},{"$f":"Données!H30","v":0},{"$f":"Données!I30","v":0},{"$f":"Données!J30","v":0},{"$f":"Données!K30","v":0},{"$f":"Données!L30","v":0},{"$f":"Données!M30","v":0},{"$f":"Données!N30","v":0}]
[9,"Communication et appareils électroniques",null,{"$f":"Données!E31","v":-150},{"$f":"Données!F31","v":-190},{"$f":"Données!G31","v":-240},{"$f":"Données!H31","v":-230},{"$f":"Données!I31","v":-280},{"$f":"Données!J31","v":-290},{"$f":"Données!K31","v":-200},{"$f":"Données!L31","v":-260},{"$f":"Données!M31","v":-310},{"$f":"Données!N31","v":-400}]
[null,null,null,{"$f":"Données!E32","v":0},{"$f":"Données!F32","v":0},{"$f":"Données!G32","v":0},{"$f":"Données!H32","v":0},{"$f":"Données!I32","v":0},{"$f":"Données!J32","v":0},{"$f":"Données!K32","v":0},{"$f":"Données!L32","v":0},{"$f":"Données!M32","v":0},{"$f":"Données!N32","v":0}]
[10,"Loisirs et formation",null,{"$f":"Données!E33","v":-440},{"$f":"Données!F33","v":-760},{"$f":"Données!G33","v":-1290},{"$f":"Données!H33","v":-880},{"$f":"Données!I33","v":-1360},{"$f":"Données!J33","v":-1080},{"$f":"Données!K33","v":-1220},{"$f":"Données!L33","v":-830},{"$f":"Données!M33","v":-1570},{"$f":"Données!N33","v":-3380}]
[]
[]
[null,"Montant restant",null,{"$f":"Données!E36","v":-730},{"$f":"Données!F36","v":750},{"$f":"Données!G36","v":2220},{"$f":"Données!H36","v":-920},{"$f":"Données!I36","v":1830},{"$f":"Données!J36","v":880},{"$f":"Données!K36","v":-190},{"$f":"Données!L36","v":-180},{"$f":"Données!M36","v":1630},{"$f":"Données!N36","v":5270}]